BEGIN:VCALENDAR
VERSION:2.0
PRODID:-//wp-events-plugin.com//7.2.3.1//EN
TZID:Europe/Zurich
X-WR-TIMEZONE:Europe/Zurich
BEGIN:VEVENT
UID:19@araet.ch
DTSTART;TZID=Europe/Zurich;VALUE=DATE:20250808
DTEND;TZID=Europe/Zurich;VALUE=DATE:20250812
DTSTAMP:20250627T163206Z
URL:https://araet.ch/evenements/stage-art-bien-etre-et-nature-sauvage/
SUMMARY:Stage Art\, bien-être et nature sauvage
DESCRIPTION:En co-animation avec Orianne Zanone\, artiste et thérapeute sh
 iatsu\, prof de Do In. 4 jours dans la forêt de Pinge\, à Jaun sous la c
 haînes de montagne des Gastlosen. Une connexion forte avec la nature et l
 a saison de l’été au travers du dessin\, de la peinture\, des haïku e
 t la connexion à son corps.\nSe mettre à l’écoute\, observer\, transf
 ormer\, manifester un geste\, traduire\, un langage. Cela passe par la mat
 ière\, de l’encre\, un papier\, des couleurs\, la terre\, le bois\, le 
 feu. Tous les éléments sont à contribution pour la création\, alchimie
  de notre esprit\, nos pensées et la matière. Oriane vous proposera la t
 echnique du stylo noir et de l’aquarelle. Coralie vous proposera de mari
 er les dessins à de petits poèmes cours et simples\, les haïku.\nContac
 t :\nCoralie Cristalli et Orianne ZanoneLien de l'événement : &gt\;&gt\;
 coralie.cristalli@gmail.com076 674 31 12\n&nbsp\;
ATTACH;FMTTYPE=image/jpeg:https://araet.ch/wp-content/uploads/2025/06/Imag
 e-art-et-nature.jpg
CATEGORIES:Annonces membres
END:VEVENT
BEGIN:VTIMEZONE
TZID:Europe/Zurich
X-LIC-LOCATION:Europe/Zurich
BEGIN:DAYLIGHT
DTSTART:20250330T030000
TZOFFSETFROM:+0100
TZOFFSETTO:+0200
TZNAME:CEST
END:DAYLIGHT
END:VTIMEZONE
END:VCALENDAR