BEGIN:VCALENDAR
VERSION:2.0
PRODID:-//wp-events-plugin.com//7.2.3.1//EN
TZID:Europe/Zurich
X-WR-TIMEZONE:Europe/Zurich
BEGIN:VEVENT
UID:12@araet.ch
DTSTART;TZID=Europe/Zurich;VALUE=DATE:20250621
DTEND;TZID=Europe/Zurich;VALUE=DATE:20250624
DTSTAMP:20250502T220754Z
URL:https://araet.ch/evenements/prenons-soin-ensemble-openvillage-ch/
SUMMARY:Prenons soin ensemble\, openvillage.ch
DESCRIPTION:\n\nLes rêves nous offrent des informations pertinentes pour b
 ien vivre et être pleinement soi-même au quotidien. Cet atelier de trois
  jours nous permettra d’acquérir et de mettre en œuvre diverses métho
 des pour se rappeler de ses rêves\, les peindre ou dessiner\, et explorer
  leur\nsens. Il permettra également de développer des compétences profe
 ssionnelles pour travailler le rêve en psychothérapie ou counselling. Of
 ferte pour la première fois en Europe\, cette formation sera facilitée p
 ar Johanne Hamel\, psychothérapeute par l'art et docteure en psychologie 
 au Québec. Mme Hamel est à l’origine de la Maîtrise en art-thérapie 
 de l’Université du Québec\, et contribue activement à la formation d
 ’art-thérapeutes en Thaïlande.
ATTACH;FMTTYPE=image/jpeg:https://araet.ch/wp-content/uploads/2025/05/pren
 ons-soin-ensemble.jpg
CATEGORIES:Formation continue
END:VEVENT
BEGIN:VTIMEZONE
TZID:Europe/Zurich
X-LIC-LOCATION:Europe/Zurich
BEGIN:DAYLIGHT
DTSTART:20250330T030000
TZOFFSETFROM:+0100
TZOFFSETTO:+0200
TZNAME:CEST
END:DAYLIGHT
END:VTIMEZONE
END:VCALENDAR