BEGIN:VCALENDAR
VERSION:2.0
PRODID:-//wp-events-plugin.com//7.2.3.1//EN
TZID:Europe/Zurich
X-WR-TIMEZONE:Europe/Zurich
BEGIN:VEVENT
UID:11@araet.ch
DTSTART;TZID=Europe/Zurich:20251006T180000
DTEND;TZID=Europe/Zurich:20251009T210000
DTSTAMP:20250502T220204Z
URL:https://araet.ch/evenements/personne-agee-demence-et-art-therapie-1/
SUMMARY:Personne âgée\, démence et art-thérapie 1
DESCRIPTION:Pour se familiariser et se perfectionner dans l’accompagnemen
 t en milieu gériatrique et psychogériatrique :\n– Comment accompagner 
 en art-thérapie à la fin de la vie\n– Comment communiquer et accompagn
 er dans la création les personnes atteintes de démence\n– Quel sens me
 ttre sur ce soin\n– Créer et proposer un projet viable d’art-thérapi
 e en EMS.\n\nNous travaillerons toutes ces questions par des moments de cr
 éation en lien avec ces thèmes\, des cas pratiques\, différentes modali
 tés comme le journal créatif (outil privilégié pour cette population)\
 , des moments de partage et d’interversion.\n\nAu total\, 12h de formati
 on continue\n\nPrix : 450 CHF\nInscription : Dés réception du paiement e
 t écrivez-moi un mail\nLien de l’événement : https://www.art-therap
 ie-vevey.ch/formation-continue-personne-agee-demence-et-art-therapie-1/
ATTACH;FMTTYPE=image/jpeg:https://araet.ch/wp-content/uploads/2025/05/logo
 _coralie-cristalli_signature_nanaillustration.png
CATEGORIES:Annonces membres
END:VEVENT
BEGIN:VTIMEZONE
TZID:Europe/Zurich
X-LIC-LOCATION:Europe/Zurich
BEGIN:DAYLIGHT
DTSTART:20250330T030000
TZOFFSETFROM:+0100
TZOFFSETTO:+0200
TZNAME:CEST
END:DAYLIGHT
END:VTIMEZONE
END:VCALENDAR