BEGIN:VCALENDAR
VERSION:2.0
PRODID:-//wp-events-plugin.com//7.2.3.1//EN
TZID:Europe/Zurich
X-WR-TIMEZONE:Europe/Zurich
BEGIN:VEVENT
UID:13@araet.ch
DTSTART;TZID=Europe/Zurich:20250604T183000
DTEND;TZID=Europe/Zurich:20250604T203000
DTSTAMP:20250603T080442Z
URL:https://araet.ch/evenements/masterclass-trauma-et-resilience-lexperien
 ce-du-psychodrame/
SUMMARY:Masterclass Trauma et résilience: L’expérience du psychodrame
DESCRIPTION:Durant cette masterclass\, la metteuse en scène et autrice Lis
 a Guez ainsi que la psychologue et psychothérapeute Géraldine Rougevin B
 aville partageront leur pratique du psychodrame auprès d’adolescent·e
 ·s d’un centre Médico psychologique.\n\nAnnonce Masterclass trauma 202
 5 juin 2025
ATTACH;FMTTYPE=image/jpeg:https://araet.ch/wp-content/uploads/2023/04/LAte
 lier-logo-e1477986425727.png
CATEGORIES:Formation continue
END:VEVENT
BEGIN:VTIMEZONE
TZID:Europe/Zurich
X-LIC-LOCATION:Europe/Zurich
BEGIN:DAYLIGHT
DTSTART:20250330T030000
TZOFFSETFROM:+0100
TZOFFSETTO:+0200
TZNAME:CEST
END:DAYLIGHT
END:VTIMEZONE
END:VCALENDAR