BEGIN:VCALENDAR
VERSION:2.0
PRODID:-//wp-events-plugin.com//7.2.3.1//EN
TZID:Europe/Zurich
X-WR-TIMEZONE:Europe/Zurich
BEGIN:VEVENT
UID:15@araet.ch
DTSTART;TZID=Europe/Zurich:20250623T183000
DTEND;TZID=Europe/Zurich:20250623T200000
DTSTAMP:20250603T080959Z
URL:https://araet.ch/evenements/masterclass-lart-therapeute-en-ligne-la-ra
 ison-des-reseaux-par-remi-rossi/
SUMMARY:Masterclass "L’art-thérapeute en ligne : la raison des réseaux"
  par Rémi Rossi
DESCRIPTION:Objectif : développer une utilisation performante et éthique 
 des réseaux sociaux dans son parcours professionnel d'art-thérapeute.\nP
 lus de détails et inscriptions ici : https://forms.gle/ZCyQL3W5i1Vqu7BM
 7
CATEGORIES:Formation continue
END:VEVENT
BEGIN:VTIMEZONE
TZID:Europe/Zurich
X-LIC-LOCATION:Europe/Zurich
BEGIN:DAYLIGHT
DTSTART:20250330T030000
TZOFFSETFROM:+0100
TZOFFSETTO:+0200
TZNAME:CEST
END:DAYLIGHT
END:VTIMEZONE
END:VCALENDAR