BEGIN:VCALENDAR
VERSION:2.0
PRODID:-//wp-events-plugin.com//7.2.3.1//EN
TZID:Europe/Zurich
X-WR-TIMEZONE:Europe/Zurich
BEGIN:VEVENT
UID:22@araet.ch
DTSTART;TZID=Europe/Zurich;VALUE=DATE:20250924
DTEND;TZID=Europe/Zurich;VALUE=DATE:20250925
DTSTAMP:20250721T194850Z
URL:https://araet.ch/evenements/journee-europeenne-de-lart-therapie/
SUMMARY:Journée européenne de l'art-thérapie
DESCRIPTION:
END:VEVENT
BEGIN:VTIMEZONE
TZID:Europe/Zurich
X-LIC-LOCATION:Europe/Zurich
BEGIN:DAYLIGHT
DTSTART:20250330T030000
TZOFFSETFROM:+0100
TZOFFSETTO:+0200
TZNAME:CEST
END:DAYLIGHT
END:VTIMEZONE
END:VCALENDAR