BEGIN:VCALENDAR
VERSION:2.0
PRODID:-//wp-events-plugin.com//7.2.3.1//EN
TZID:Europe/Zurich
X-WR-TIMEZONE:Europe/Zurich
BEGIN:VEVENT
UID:23@araet.ch
DTSTART;TZID=Europe/Zurich;VALUE=DATE:20250829
DTEND;TZID=Europe/Zurich;VALUE=DATE:20250903
DTSTAMP:20250825T201335Z
URL:https://araet.ch/evenements/improvisation-vocale-chant-polyphonique/
SUMMARY:Improvisation vocale & chant polyphonique
DESCRIPTION:Retraite de chant de 5 jours à la Maison d’Issert\, Val Ferr
 et\, Valais (Suisse)\nDu 29 août au 2 sept. 2025\, explorez la voix et la
  connexion à soi par le chant.\nAu programme : jeux vocaux\, improvisatio
 ns\, circle songs\, chants polyphoniques\, marches en nature\, temps créa
 tifs\, cuisine collective et espaces de repos.Ouvert à tous\, débutants 
 ou confirmés\, animé par Valentine Lasserre\, art-thérapeute et animatr
 ice d’ateliers de chant et d’arts expressifs\, et Joy-Anne Besse\, cr
 éatrice de lieuxartistiques et culinaires.\nUn voyage pour s’écouter\,
  se libérer et se ressourcer\, en groupe\, dans un cadre bienveillant et 
 inspirant.\nParticipation consciente : entre 200 et 600 CHF (frais pédago
 giques).\n&nbsp\;\nContact :Valentine Lasserre &amp\; Joy-Anne Bessevalent
 inelasserre.com/retraite-chant-sept-2025/077 434 63 93bienvenue@valentinel
 asserre.com\n// Flyer
ATTACH;FMTTYPE=image/jpeg:https://araet.ch/wp-content/uploads/2025/08/imag
 e-4.png
CATEGORIES:Annonces membres
END:VEVENT
BEGIN:VTIMEZONE
TZID:Europe/Zurich
X-LIC-LOCATION:Europe/Zurich
BEGIN:DAYLIGHT
DTSTART:20250330T030000
TZOFFSETFROM:+0100
TZOFFSETTO:+0200
TZNAME:CEST
END:DAYLIGHT
END:VTIMEZONE
END:VCALENDAR