BEGIN:VCALENDAR
VERSION:2.0
PRODID:-//wp-events-plugin.com//7.2.3.1//EN
TZID:Europe/Zurich
X-WR-TIMEZONE:Europe/Zurich
BEGIN:VEVENT
UID:24@araet.ch
DTSTART;TZID=Europe/Zurich;VALUE=DATE:20250925
DTEND;TZID=Europe/Zurich;VALUE=DATE:20250927
DTSTAMP:20250908T150958Z
URL:https://araet.ch/evenements/formation-sexologie-par-la-danse-et-le-mou
 vement/
SUMMARY:Formation sexologie par la danse et le mouvement
DESCRIPTION:❤️Pourquoi suivre cette formation ?\nLe corps est une sourc
 e précieuse de messages émotionnels\, physiques et psychiques. Il est au
 ssi aucœ ur des enjeux sexuels. Cette formation vous permet de :\n• vou
 s appuyer sur le mouvement pour aborder la sexualité de façon non verbal
 e et symbolique.• développer une lecture corporelle fine des récits se
 xuels.• enrichir votre pratique avec des outils sensibles\, concrets et 
 directement applicables.\nUne meilleure compréhension des signaux corpore
 ls et émotionnels.Des outils pratiques pour favoriser une expression émo
 tionnelle plus fluide.Une intégration concrète du mouvement en tant qu'o
 util thérapeutique.Une nouvelle compréhension du corps pour renforcer l'
 estime de soi.\nLien vers la formation : https://therapie-en-mouvement.ch/
 formation/sexologie/\nCoordonnées de l'intervenante :\nEhrenfreund Haguit
 contact@therapie-en-mouvement.ch078.974.46.83
ATTACH;FMTTYPE=image/jpeg:https://araet.ch/wp-content/uploads/2025/09/sexo
 logie-par-la-danse-et-le-mouvement.jpg
CATEGORIES:Annonces membres
END:VEVENT
BEGIN:VTIMEZONE
TZID:Europe/Zurich
X-LIC-LOCATION:Europe/Zurich
BEGIN:DAYLIGHT
DTSTART:20250330T030000
TZOFFSETFROM:+0100
TZOFFSETTO:+0200
TZNAME:CEST
END:DAYLIGHT
END:VTIMEZONE
END:VCALENDAR