BEGIN:VCALENDAR
VERSION:2.0
PRODID:-//wp-events-plugin.com//7.2.3.1//EN
TZID:Europe/Zurich
X-WR-TIMEZONE:Europe/Zurich
BEGIN:VEVENT
UID:6@araet.ch
DTSTART;TZID=Europe/Zurich;VALUE=DATE:20251003
DTEND;TZID=Europe/Zurich;VALUE=DATE:20251005
DTSTAMP:20250502T220330Z
URL:https://araet.ch/evenements/formation-en-supervision/
SUMMARY:Formation en supervision
DESCRIPTION:Vous souhaitez élargir votre pratique en offrant également de
  la supervision individuelle ?\n\nSi vous possédez le diplôme fédéral 
 d’art-thérapie\, cette formation vous permet d’obtenir le titre de su
 perviseur ARTECURA.\n\nDates : 3-4 octobre \; 31 octobre et 1er novembre
  \; 28-29 novembre 2025 \; 30 janvier 2026\n\nSite internet de la forma
 tion : https://synopia.ch/formation\n\nInscription auprès de admin@synopi
 a.ch
ATTACH;FMTTYPE=image/jpeg:https://araet.ch/wp-content/uploads/2025/04/syno
 pia.png
CATEGORIES:Formation continue
END:VEVENT
BEGIN:VTIMEZONE
TZID:Europe/Zurich
X-LIC-LOCATION:Europe/Zurich
BEGIN:DAYLIGHT
DTSTART:20250330T030000
TZOFFSETFROM:+0100
TZOFFSETTO:+0200
TZNAME:CEST
END:DAYLIGHT
END:VTIMEZONE
END:VCALENDAR