BEGIN:VCALENDAR
VERSION:2.0
PRODID:-//wp-events-plugin.com//7.2.3.1//EN
TZID:Europe/Zurich
X-WR-TIMEZONE:Europe/Zurich
BEGIN:VEVENT
UID:18@araet.ch
DTSTART;TZID=Europe/Zurich;VALUE=DATE:20251030
DTEND;TZID=Europe/Zurich;VALUE=DATE:20251101
DTSTAMP:20250627T162704Z
URL:https://araet.ch/evenements/exploration-et-creativite-pour-hpi-hyperse
 nsible-la-confiance/
SUMMARY:Exploration et créativité pour HPI/hypersensible : La confiance
DESCRIPTION:Travailler la confiance en soi\, explorer les biais cognitifs s
 aboteurs\, désamorcer le syndrome de l’imposteur. Destinée aux personn
 es «HPI» (haut potentiel intellectuel) et «hypersensibles». Observer l
 es failles et les forces du processus interne de confiance. Cette formatio
 n aborde les biais cognitifs qui sabotent la confiance ainsi que le syndro
 me de l’imposteur qui provoque un sentiment d’illégitimité souvent p
 résent chez les personnes HPI.\nNous vous proposons un laboratoire d’ex
 ploration et de réflexion personnelles par différents processus créatif
 s.\nLieu : Vevey\, dans les locaux du CAB Santé\nInscription sur le site 
 de noburnout et plus d'infos sur la page du site.\n&nbsp\;\nCoralie Crista
 llicoralie.cristalli@gmail.com0766743112
ATTACH;FMTTYPE=image/jpeg:https://araet.ch/wp-content/uploads/2025/06/Imag
 e-cour-confiance.jpg
CATEGORIES:Annonces membres
LOCATION:CAB Santé\, Rue des Bosquets 33\, Vevey\, 1800\, Suisse
X-APPLE-STRUCTURED-LOCATION;VALUE=URI;X-ADDRESS=Rue des Bosquets 33\, Vevey
 \, 1800\, Suisse;X-APPLE-RADIUS=100;X-TITLE=CAB Santé:geo:0,0
END:VEVENT
BEGIN:VTIMEZONE
TZID:Europe/Zurich
X-LIC-LOCATION:Europe/Zurich
BEGIN:STANDARD
DTSTART:20251026T020000
TZOFFSETFROM:+0200
TZOFFSETTO:+0100
TZNAME:CET
END:STANDARD
END:VTIMEZONE
END:VCALENDAR