BEGIN:VCALENDAR
VERSION:2.0
PRODID:-//wp-events-plugin.com//7.2.3.1//EN
TZID:Europe/Zurich
X-WR-TIMEZONE:Europe/Zurich
BEGIN:VEVENT
UID:27@araet.ch
DTSTART;TZID=Europe/Zurich:20250925T190000
DTEND;TZID=Europe/Zurich:20250925T220000
DTSTAMP:20250910T094947Z
URL:https://araet.ch/evenements/conference-deuil-migration-et-integration-
 creative/
SUMMARY:Conférence : Deuil\, migration et intégration créative
DESCRIPTION:CONFERENCE  \nJean-Claude MétrauxDeuil\, migration et intég
 ration créative\nJeudi 25 septembre 19h - Lausanne\nEspace Dickens\,Dick
 ens 4CH-1006 Lausanne\nMembre ARAET : entrée libreNon-membre ARAET : 25.-
  \nJean-Claude Métraux est pédopsychiatre. Depuis les années 1970\, i
 l travaille avec des personnes et des familles migrantes en situation de p
 récarité\, en Suisse et à l’étranger.\nIl est co-fondateur de l’as
 sociation Appartenances à Lausanne\, qui favorise les liens entre commu
 nautés migrantes et société d’accueil.\nEn 2011\, il publie La migra
 tion comme métaphore\, un ouvrage dans lequel il explore les dimensions d
 e perte\, deuil\, inclusion et appartenance. \nNous sommes très heureuse
 s de l'accueillir à l'ARAET pour une causerie qu'il concoctera spécialem
 ent pour nous. Cet évènement est ouvert à toutes les personnes intéres
 sées !Pour s'inscrire: https://lnkd.in/erbyJrKB
ATTACH;FMTTYPE=image/jpeg:https://araet.ch/wp-content/uploads/2025/09/conf
 erence.jpg
CATEGORIES:Evénements ARAET
END:VEVENT
BEGIN:VTIMEZONE
TZID:Europe/Zurich
X-LIC-LOCATION:Europe/Zurich
BEGIN:DAYLIGHT
DTSTART:20250330T030000
TZOFFSETFROM:+0100
TZOFFSETTO:+0200
TZNAME:CEST
END:DAYLIGHT
END:VTIMEZONE
END:VCALENDAR