BEGIN:VCALENDAR
VERSION:2.0
PRODID:-//wp-events-plugin.com//7.2.3.1//EN
TZID:Europe/Zurich
X-WR-TIMEZONE:Europe/Zurich
BEGIN:VEVENT
UID:5@araet.ch
DTSTART;TZID=Europe/Zurich:20250510T090000
DTEND;TZID=Europe/Zurich:20250510T163000
DTSTAMP:20250429T205214Z
URL:https://araet.ch/evenements/assemblee-generale/
SUMMARY:Assemblée Générale
DESCRIPTION:Le comité de l'ARAET a le plaisir de vous convier\nle samedi
  10 mai 2025\nà son assemblée générale\n à Beaulieu\, Lausanne\n
 de 9h à 16h30 \nNous nous réjouissons de vous accueillir pour cette jou
 rnée que nous sommes en train de concevoir entre transmission des informa
 tions relatives à notre association\, réflexion\, convivialité et discu
 ssion.\n\nNous nous réjouissons de vous retrouver et restons bien sûr à
  votre entière disposition pour toute question d'ici-là.\n\nEn vous souh
 aitant un beau début de printemps\,\n\nLe comité\, Julia\, Sofia\, Stép
 hanie et Emmanuelle\n\n&nbsp\;\nProgramme de la journée :\n9h : accuei
 l\, thé\, café\n9h30 - 13h : assemblée générale\n13h - 14h30 : repas
  et convivialité\n14h30 - 15h45 : conférence et discussion avec le pro
 fesseur et psychanalyste François Ansermet sur le thème "Traumatisme 
 et créativité". Cette participation pourra compter dans vos heures de fo
 rmation continue.\n16h - 16h30 : rangement\n\nOù : L'Eveil\, Halle 18\,
  Av. des Bergières 10\, 1004 Lausanne\n\nRepas : L'ORIF de Renens (orga
 nisme d'insertion sociale et professionnelle) nous concoctera un repas cha
 ud avec option végétarienne. Si vous le souhaitez\, vous pouvez amener
  un dessert qui ravira nos papilles.\n\nLe conférencier : François A
 nsermet est psychanalyste\, Professeur honoraire de pédopsychiatrie à l
 ’Université de Genève et de Lausanne\, et vice-président de la Fondat
 ion Agalma à Genève qui se consacre aux relations entre art\, sciences 
 et psychanalyse (www.agalma.ch). Il a participé à la création de la Ma
 ison de l’Enfance et de l’Adolescence qui s’est ouverte en 2023 aux
  HUG à Genève.\n\nParticipation : vous pouvez participer uniquement à 
 l'assemblée générale du matin. Et bien sûr\, l'après-midi uniquement 
 est également ouvert\, mais nous vous invitons chaleureusement à partici
 per à la matinée.
CATEGORIES:Evénements ARAET
LOCATION:Halle 18 de Beaulieu\, Avenue Bergières 10\, Lausanne\, 1004 \, S
 uisse
X-APPLE-STRUCTURED-LOCATION;VALUE=URI;X-ADDRESS=Avenue Bergières 10\, Laus
 anne\, 1004 \, Suisse;X-APPLE-RADIUS=100;X-TITLE=Halle 18 de Beaulieu:geo:
 0,0
END:VEVENT
BEGIN:VTIMEZONE
TZID:Europe/Zurich
X-LIC-LOCATION:Europe/Zurich
BEGIN:DAYLIGHT
DTSTART:20250330T030000
TZOFFSETFROM:+0100
TZOFFSETTO:+0200
TZNAME:CEST
END:DAYLIGHT
END:VTIMEZONE
END:VCALENDAR