BEGIN:VCALENDAR
VERSION:2.0
PRODID:-//wp-events-plugin.com//7.2.3.1//EN
TZID:Europe/Zurich
X-WR-TIMEZONE:Europe/Zurich
BEGIN:VEVENT
UID:20@araet.ch
DTSTART;TZID=Europe/Zurich:20250924T133000
DTEND;TZID=Europe/Zurich:20250924T170000
DTSTAMP:20250711T092840Z
URL:https://araet.ch/evenements/art-therapie-et-art-a-lhopital-une-oeuvre-
 commune/
SUMMARY:Art-thérapie et Art à l’hôpital : une œuvre commune
DESCRIPTION:Les Hôpitaux universitaires de Genève ont le plaisir de vous 
 convier au forum intitulé « Art-thérapie et Art à l’hôpital : une
  œuvre commune » :\nMercredi 24 septembre 2025 de 13h30 à 17h00Audito
 ire Marcel-Jenny des HUGRue Gabrielle-Perret-Gentil 4\, 1205 Genève\nExpe
 rts et expertes en art-thérapie et en art à l’hôpital partageront leu
 rs expériences et leurs regards.\nNous comptons sur votre présence à ce
  forum\, durant lequel interviendra notamment Mme Isabelle Wachsmuth\, exp
 erte en système de santé et santé intégrative au sein de l’Organisat
 ion Mondiale de la Santé (OMS).\nVous trouverez en pièce jointe l’invi
 tation (avec le programme détaillé) et ci-après le lien vers le formul
 aire d’inscription.\nNous vous remercions de confirmer votre présence 
 avant le 17 septembre 2025.\nAu plaisir de vous accueillir prochainement\,
  nous vous adressons\, Madame\, Monsieur\, nos meilleures salutations.\nLa
  Direction des soins\nLes Hôpitaux universitaires de Genève\nINVITATION
ATTACH;FMTTYPE=image/jpeg:https://araet.ch/wp-content/uploads/2025/07/imag
 e001-3.jpg
CATEGORIES:Formation continue
END:VEVENT
BEGIN:VTIMEZONE
TZID:Europe/Zurich
X-LIC-LOCATION:Europe/Zurich
BEGIN:DAYLIGHT
DTSTART:20250330T030000
TZOFFSETFROM:+0100
TZOFFSETTO:+0200
TZNAME:CEST
END:DAYLIGHT
END:VTIMEZONE
END:VCALENDAR