BEGIN:VCALENDAR
VERSION:2.0
PRODID:-//wp-events-plugin.com//7.2.3.1//EN
TZID:Europe/Zurich
X-WR-TIMEZONE:Europe/Zurich
BEGIN:VEVENT
UID:10@araet.ch
DTSTART;TZID=Europe/Zurich;VALUE=DATE:20250705
DTEND;TZID=Europe/Zurich;VALUE=DATE:20250711
DTSTAMP:20250502T220828Z
URL:https://araet.ch/evenements/4eme-festival-creatif-a-evolene/
SUMMARY:4ème festival créatif à Evolène
DESCRIPTION:Ce jeune festival est dédié à la créativité et à l’éch
 ange entre professionnel.les de l’art-thérapie et de l’animation d’
 ateliers d’expression. Pour cette quatrième édition\, il se déroulera
  sur six jours du 5 au 11 juillet 2025\, dans le charmant village valaisan
  d’Evolène. Le village se situe dans une vallée préservée et très a
 uthentique : le val d’Hérens.\n\nDeux types de public sont ciblés par 
 la manifestation : les samedi et dimanche le programme s’adressera au gr
 and public. Les jours de semaine qui suivront seront spécialement program
 més pour les art-thérapeutes et les personnes ayant un intérêt profess
 ionnel dans ce domaine (des heures de formation continue pourront être at
 testées sur demande).\n\nAfin d’établir le programme 2025\, nous cherc
 hons des personnes souhaitant participer activement au projet en animant u
 n ou plusieurs ateliers.\n\nPlus d’informations : flyer
ATTACH;FMTTYPE=image/jpeg:https://araet.ch/wp-content/uploads/2025/05/evol
 ene.png
CATEGORIES:Formation continue
END:VEVENT
BEGIN:VTIMEZONE
TZID:Europe/Zurich
X-LIC-LOCATION:Europe/Zurich
BEGIN:DAYLIGHT
DTSTART:20250330T030000
TZOFFSETFROM:+0100
TZOFFSETTO:+0200
TZNAME:CEST
END:DAYLIGHT
END:VTIMEZONE
END:VCALENDAR